BEGIN:VCALENDAR
VERSION:2.0
PRODID:-//Sabre//Sabre VObject 4.5.8//EN
CALSCALE:GREGORIAN
BEGIN:VTIMEZONE
TZID:Europe/Zurich
X-LIC-LOCATION:Europe/Zurich
TZURL:http://tzurl.org/zoneinfo/Europe/Zurich
BEGIN:DAYLIGHT
TZOFFSETFROM:+0100
TZOFFSETTO:+0200
TZNAME:CEST
DTSTART:19810329T020000
RRULE:FREQ=YEARLY;BYMONTH=3;BYDAY=-1SU
END:DAYLIGHT
BEGIN:STANDARD
TZOFFSETFROM:+0200
TZOFFSETTO:+0100
TZNAME:CET
DTSTART:19961027T030000
RRULE:FREQ=YEARLY;BYMONTH=10;BYDAY=-1SU
END:STANDARD
END:VTIMEZONE
BEGIN:VEVENT
UID:news2487@dg.philhist.unibas.ch
DTSTAMP;TZID=Europe/Zurich:20260210T124604
DTSTART;TZID=Europe/Zurich:20260311T181500
SUMMARY:The Rebels and the Repressed: Colonialism\, Resistance\, and Foreig
 n Rule in Kazakhstani Memorial Museums
DESCRIPTION:Vortrag von Hera Shokohi (Bonn) im Rahmen des Forschungskolloqu
 iums für Osteuropäische Geschichte
X-ALT-DESC:Vortrag von Hera Shokohi (Bonn) im Rahmen des Forschungskolloqui
 ums für Osteuropäische Geschichte
DTEND;TZID=Europe/Zurich:20260311T200000
END:VEVENT
END:VCALENDAR
