BEGIN:VCALENDAR
VERSION:2.0
PRODID:-//Sabre//Sabre VObject 4.5.8//EN
CALSCALE:GREGORIAN
BEGIN:VTIMEZONE
TZID:Europe/Zurich
X-LIC-LOCATION:Europe/Zurich
TZURL:http://tzurl.org/zoneinfo/Europe/Zurich
BEGIN:DAYLIGHT
TZOFFSETFROM:+0100
TZOFFSETTO:+0200
TZNAME:CEST
DTSTART:19810329T020000
RRULE:FREQ=YEARLY;BYMONTH=3;BYDAY=-1SU
END:DAYLIGHT
BEGIN:STANDARD
TZOFFSETFROM:+0200
TZOFFSETTO:+0100
TZNAME:CET
DTSTART:19961027T030000
RRULE:FREQ=YEARLY;BYMONTH=10;BYDAY=-1SU
END:STANDARD
END:VTIMEZONE
BEGIN:VEVENT
UID:news1752@dg.philhist.unibas.ch
DTSTAMP;TZID=Europe/Zurich:20230307T163822
DTSTART;TZID=Europe/Zurich:20230329T140000
SUMMARY:Vortrag von Prof. Dr. Maxine Berg (Warwick) Sweet Industriousness: 
 The Sugar-Slave Nexus in the Early Modern World
DESCRIPTION:Der öffentliche Vortrag findet im Rahmen der Vorlesung "Global
 isierung vor Ort" von Susanna Burghartz statt. Gäste sind herzlich willko
 mmen.
X-ALT-DESC:Der öffentliche Vortrag findet im Rahmen der Vorlesung "Globali
 sierung vor Ort" von Susanna Burghartz statt. Gäste sind herzlich willkom
 men.
DTEND;TZID=Europe/Zurich:20230329T160000
END:VEVENT
END:VCALENDAR
