BEGIN:VCALENDAR
VERSION:2.0
PRODID:-//Sabre//Sabre VObject 4.5.8//EN
CALSCALE:GREGORIAN
BEGIN:VTIMEZONE
TZID:Europe/Zurich
X-LIC-LOCATION:Europe/Zurich
TZURL:http://tzurl.org/zoneinfo/Europe/Zurich
BEGIN:DAYLIGHT
TZOFFSETFROM:+0100
TZOFFSETTO:+0200
TZNAME:CEST
DTSTART:19810329T020000
RRULE:FREQ=YEARLY;BYMONTH=3;BYDAY=-1SU
END:DAYLIGHT
BEGIN:STANDARD
TZOFFSETFROM:+0200
TZOFFSETTO:+0100
TZNAME:CET
DTSTART:19961027T030000
RRULE:FREQ=YEARLY;BYMONTH=10;BYDAY=-1SU
END:STANDARD
END:VTIMEZONE
BEGIN:VEVENT
UID:news2330@dg.philhist.unibas.ch
DTSTAMP;TZID=Europe/Zurich:20250827T134855
DTSTART;TZID=Europe/Zurich:20251021T161500
SUMMARY:Cramp Histories: Menstrual Biographies\, Period Poverty\, and Trans
 formation in Europe’s Peripheries\, 1950s-2000s
DESCRIPTION:Vortrag von Anna Dorbrowolska (Basel) im Rahmen des Forschungsk
 olloquiums "Geschichte des 19. bis 21. Jahrhunderts"
X-ALT-DESC:Vortrag von Anna Dorbrowolska (Basel) im Rahmen des Forschungsko
 lloquiums "Geschichte des 19. bis 21. Jahrhunderts"
DTEND;TZID=Europe/Zurich:20251021T180000
END:VEVENT
END:VCALENDAR
