BEGIN:VCALENDAR
VERSION:2.0
PRODID:-//Sabre//Sabre VObject 4.5.8//EN
CALSCALE:GREGORIAN
BEGIN:VTIMEZONE
TZID:Europe/Zurich
X-LIC-LOCATION:Europe/Zurich
TZURL:http://tzurl.org/zoneinfo/Europe/Zurich
BEGIN:DAYLIGHT
TZOFFSETFROM:+0100
TZOFFSETTO:+0200
TZNAME:CEST
DTSTART:19810329T020000
RRULE:FREQ=YEARLY;BYMONTH=3;BYDAY=-1SU
END:DAYLIGHT
BEGIN:STANDARD
TZOFFSETFROM:+0200
TZOFFSETTO:+0100
TZNAME:CET
DTSTART:19961027T030000
RRULE:FREQ=YEARLY;BYMONTH=10;BYDAY=-1SU
END:STANDARD
END:VTIMEZONE
BEGIN:VEVENT
UID:news1586@dg.philhist.unibas.ch
DTSTAMP;TZID=Europe/Zurich:20220830T101230
DTSTART;TZID=Europe/Zurich:20221024T141500
SUMMARY:Jewish-Ukrainian relations in Eastern Galicia in the end of the 19t
 h — beginning of the 20th century
DESCRIPTION:Vortrag von Lada Moskalets (Lviv) im Rahmen der URIS-Ringvorles
 ung "Geschichte der Ukraine"
X-ALT-DESC:Vortrag von Lada Moskalets (Lviv) im Rahmen der URIS-Ringvorlesu
 ng "Geschichte der Ukraine"
END:VEVENT
END:VCALENDAR
