BEGIN:VCALENDAR
VERSION:2.0
PRODID:-//Sabre//Sabre VObject 4.5.8//EN
CALSCALE:GREGORIAN
BEGIN:VTIMEZONE
TZID:Europe/Zurich
X-LIC-LOCATION:Europe/Zurich
TZURL:http://tzurl.org/zoneinfo/Europe/Zurich
BEGIN:DAYLIGHT
TZOFFSETFROM:+0100
TZOFFSETTO:+0200
TZNAME:CEST
DTSTART:19810329T020000
RRULE:FREQ=YEARLY;BYMONTH=3;BYDAY=-1SU
END:DAYLIGHT
BEGIN:STANDARD
TZOFFSETFROM:+0200
TZOFFSETTO:+0100
TZNAME:CET
DTSTART:19961027T030000
RRULE:FREQ=YEARLY;BYMONTH=10;BYDAY=-1SU
END:STANDARD
END:VTIMEZONE
BEGIN:VEVENT
UID:news1144@dg.philhist.unibas.ch
DTSTAMP;TZID=Europe/Zurich:20220630T103145
DTSTART;VALUE=DATE:20220629
SUMMARY:6. Schweizerische Geschichtstage: Thema "Natur"
DESCRIPTION:29. Juni–1. Juli 2022\, Genf
X-ALT-DESC:29. Juni–1. Juli 2022\, Genf
DTEND;VALUE=DATE:20220701
END:VEVENT
END:VCALENDAR
