BEGIN:VCALENDAR
VERSION:2.0
PRODID:-//Sabre//Sabre VObject 4.5.8//EN
CALSCALE:GREGORIAN
BEGIN:VTIMEZONE
TZID:Europe/Zurich
X-LIC-LOCATION:Europe/Zurich
TZURL:http://tzurl.org/zoneinfo/Europe/Zurich
BEGIN:DAYLIGHT
TZOFFSETFROM:+0100
TZOFFSETTO:+0200
TZNAME:CEST
DTSTART:19810329T020000
RRULE:FREQ=YEARLY;BYMONTH=3;BYDAY=-1SU
END:DAYLIGHT
BEGIN:STANDARD
TZOFFSETFROM:+0200
TZOFFSETTO:+0100
TZNAME:CET
DTSTART:19961027T030000
RRULE:FREQ=YEARLY;BYMONTH=10;BYDAY=-1SU
END:STANDARD
END:VTIMEZONE
BEGIN:VEVENT
UID:news2534@dg.philhist.unibas.ch
DTSTAMP;TZID=Europe/Zurich:20260224T155245
DTSTART;TZID=Europe/Zurich:20260424T090000
SUMMARY:Workshop: Making the Invisible Visible: Clarifying Roles\, Assumpti
 ons and Responsibilities in your PhD
DESCRIPTION:A PhD is not something that simply happens to you. It is a proj
 ect you actively shape. Yet at the very beginning\, expectations (your own
  and those of others) often remain unclear\, unspoken\, or mismatched. Thi
 s uncertainty can quietly undermine confidence and motivation. This worksh
 op empowers you to step into your PhD with clarity and agency. You will wo
 rk on the questions that define your role and your direction:\\r\\nWhy am 
 I doing a PhD and what does it mean to me?What do I expect from this proje
 ct and what do I expect from myself?Which assumptions influence my decisio
 ns and behavior?What expectations surround me\, from colleagues\, peers\, 
 and my environment?What do my supervisors expect\, and how can I actively 
 clarify this?\\r\\nYou will gain practical information to make expectation
 s visible\, communicate them clearly\, and negotiate them confidently. By 
 reflecting on your understanding and expressing it with intention\, you st
 rengthen your position as an active partner in your PhD and not just as a 
 passive participant.\\r\\nThis workshop helps you to build a solid foundat
 ion for your PhD that is based on clarity\, responsibility\, and choice. A
 nyone wishing to participate in the workshop should register with hubertu
 s.muench@unibas.ch [mailto:hubertus.muench@unibas.ch] by 12 April at the 
 latest.
X-ALT-DESC:<p>A PhD is not something that simply happens to you. It is a pr
 oject you actively shape. Yet at the very beginning\, expectations (your o
 wn and those of others) often remain unclear\, unspoken\, or mismatched. T
 his uncertainty can quietly undermine confidence and motivation. This work
 shop empowers you to step into your PhD with clarity and agency. You will 
 work on the questions that define your role and your direction:</p>\n<ul><
 li><span>Why am I doing a PhD and what does it mean to me?</span></li><li>
 <span>What do I expect from this project and what do I expect from myself?
 </span></li><li><span>Which assumptions influence my decisions and behavio
 r?</span></li><li><span>What expectations surround me\, from colleagues\, 
 peers\, and my environment?</span></li><li><span>What do my supervisors ex
 pect\, and how can I actively clarify this?</span></li></ul>\n<p>You will 
 gain practical information to make expectations visible\, communicate them
  clearly\, and negotiate them confidently. By reflecting on your understan
 ding and expressing it with intention\, you strengthen your position as an
  active partner in your PhD and not just as a passive participant.</p>\n<p
 >This workshop helps you to build a solid foundation for your PhD that is 
 based on clarity\, responsibility\, and choice. Anyone wishing to particip
 ate in the workshop should register with&nbsp\;<a href="mailto:hubertus.mu
 ench@unibas.ch">hubertus.muench@unibas.ch</a>&nbsp\;by 12 April at the lat
 est.</p>
DTEND;TZID=Europe/Zurich:20260424T120000
END:VEVENT
END:VCALENDAR
