BEGIN:VCALENDAR
VERSION:2.0
PRODID:-//Sabre//Sabre VObject 4.5.8//EN
CALSCALE:GREGORIAN
BEGIN:VTIMEZONE
TZID:Europe/Zurich
X-LIC-LOCATION:Europe/Zurich
TZURL:http://tzurl.org/zoneinfo/Europe/Zurich
BEGIN:DAYLIGHT
TZOFFSETFROM:+0100
TZOFFSETTO:+0200
TZNAME:CEST
DTSTART:19810329T020000
RRULE:FREQ=YEARLY;BYMONTH=3;BYDAY=-1SU
END:DAYLIGHT
BEGIN:STANDARD
TZOFFSETFROM:+0200
TZOFFSETTO:+0100
TZNAME:CET
DTSTART:19961027T030000
RRULE:FREQ=YEARLY;BYMONTH=10;BYDAY=-1SU
END:STANDARD
END:VTIMEZONE
BEGIN:VEVENT
UID:news2503@dg.philhist.unibas.ch
DTSTAMP;TZID=Europe/Zurich:20260213T101332
DTSTART;TZID=Europe/Zurich:20260422T161500
SUMMARY:Wishful Making: Failed Maiolica Production in the Late Sixteenth-Ce
 ntury Cracow
DESCRIPTION:Vortrag von Zuzanna Sarnecka (Bern) im Rahmen des Forschungskol
 loquiums "Aktuelle Forschungen zur Geschichte der Vormoderne"
X-ALT-DESC:Vortrag von Zuzanna Sarnecka (Bern) im Rahmen des Forschungskoll
 oquiums "Aktuelle Forschungen zur Geschichte der Vormoderne"
DTEND;TZID=Europe/Zurich:20260422T174500
END:VEVENT
END:VCALENDAR
