BEGIN:VCALENDAR
VERSION:2.0
PRODID:-//Sabre//Sabre VObject 4.5.8//EN
CALSCALE:GREGORIAN
BEGIN:VTIMEZONE
TZID:Europe/Zurich
X-LIC-LOCATION:Europe/Zurich
TZURL:http://tzurl.org/zoneinfo/Europe/Zurich
BEGIN:DAYLIGHT
TZOFFSETFROM:+0100
TZOFFSETTO:+0200
TZNAME:CEST
DTSTART:19810329T020000
RRULE:FREQ=YEARLY;BYMONTH=3;BYDAY=-1SU
END:DAYLIGHT
BEGIN:STANDARD
TZOFFSETFROM:+0200
TZOFFSETTO:+0100
TZNAME:CET
DTSTART:19961027T030000
RRULE:FREQ=YEARLY;BYMONTH=10;BYDAY=-1SU
END:STANDARD
END:VTIMEZONE
BEGIN:VEVENT
UID:news1690@dg.philhist.unibas.ch
DTSTAMP;TZID=Europe/Zurich:20230123T142827
DTSTART;TZID=Europe/Zurich:20230418T181500
SUMMARY:Schulden\, ein notwendiges Übel? Variationen einer anthropologisch
 en Konstante am Basler Beispiel
DESCRIPTION:Habilitationsvortrag von PD Dr. Benjamin Hitz\, Privatdozent fu
 ̈r Mittlere und Neuere Geschichte
X-ALT-DESC:Habilitationsvortrag von PD Dr. Benjamin Hitz\, Privatdozent fu
 ̈r Mittlere und Neuere Geschichte
END:VEVENT
END:VCALENDAR
