BEGIN:VCALENDAR
VERSION:2.0
PRODID:-//Sabre//Sabre VObject 4.5.8//EN
CALSCALE:GREGORIAN
BEGIN:VTIMEZONE
TZID:Europe/Zurich
X-LIC-LOCATION:Europe/Zurich
TZURL:http://tzurl.org/zoneinfo/Europe/Zurich
BEGIN:DAYLIGHT
TZOFFSETFROM:+0100
TZOFFSETTO:+0200
TZNAME:CEST
DTSTART:19810329T020000
RRULE:FREQ=YEARLY;BYMONTH=3;BYDAY=-1SU
END:DAYLIGHT
BEGIN:STANDARD
TZOFFSETFROM:+0200
TZOFFSETTO:+0100
TZNAME:CET
DTSTART:19961027T030000
RRULE:FREQ=YEARLY;BYMONTH=10;BYDAY=-1SU
END:STANDARD
END:VTIMEZONE
BEGIN:VEVENT
UID:news2425@dg.philhist.unibas.ch
DTSTAMP;TZID=Europe/Zurich:20260205T112052
DTSTART;TZID=Europe/Zurich:20260415T161500
SUMMARY:New approaches to old problems: sex\, gender\, and crime in 15th ce
 ntury Dijon
DESCRIPTION:Vortrag von Sara McDougall (New York) im Rahmen des Forschungsk
 olloquiums "Aktuelle Forschungen zur Geschichte der Vormoderne"
X-ALT-DESC:Vortrag von Sara McDougall (New York) im Rahmen des Forschungsko
 lloquiums "Aktuelle Forschungen zur Geschichte der Vormoderne"
DTEND;TZID=Europe/Zurich:20260415T174500
END:VEVENT
END:VCALENDAR
