BEGIN:VCALENDAR
VERSION:2.0
PRODID:-//Sabre//Sabre VObject 4.5.8//EN
CALSCALE:GREGORIAN
BEGIN:VTIMEZONE
TZID:Europe/Zurich
X-LIC-LOCATION:Europe/Zurich
TZURL:http://tzurl.org/zoneinfo/Europe/Zurich
BEGIN:DAYLIGHT
TZOFFSETFROM:+0100
TZOFFSETTO:+0200
TZNAME:CEST
DTSTART:19810329T020000
RRULE:FREQ=YEARLY;BYMONTH=3;BYDAY=-1SU
END:DAYLIGHT
BEGIN:STANDARD
TZOFFSETFROM:+0200
TZOFFSETTO:+0100
TZNAME:CET
DTSTART:19961027T030000
RRULE:FREQ=YEARLY;BYMONTH=10;BYDAY=-1SU
END:STANDARD
END:VTIMEZONE
BEGIN:VEVENT
UID:news2465@dg.philhist.unibas.ch
DTSTAMP;TZID=Europe/Zurich:20260413T102059
DTSTART;TZID=Europe/Zurich:20260414T161500
SUMMARY:!Fällt aus!: Der Asphaltierte Planet. Eine Mikrogeschichte von Aut
 o und Erde im 20. Jahrhundert
DESCRIPTION:Vortrag von Simone Müller (Augsburg) im Rahmen des Forschungsk
 olloquiums "Geschichte des 19. bis 21. Jahrhunderts".
X-ALT-DESC:Vortrag von Simone Müller (Augsburg) im Rahmen des Forschungsko
 lloquiums "Geschichte des 19. bis 21. Jahrhunderts". 
DTEND;TZID=Europe/Zurich:20260414T180000
END:VEVENT
END:VCALENDAR
