BEGIN:VCALENDAR
VERSION:2.0
PRODID:-//Sabre//Sabre VObject 4.5.8//EN
CALSCALE:GREGORIAN
BEGIN:VTIMEZONE
TZID:Europe/Zurich
X-LIC-LOCATION:Europe/Zurich
TZURL:http://tzurl.org/zoneinfo/Europe/Zurich
BEGIN:DAYLIGHT
TZOFFSETFROM:+0100
TZOFFSETTO:+0200
TZNAME:CEST
DTSTART:19810329T020000
RRULE:FREQ=YEARLY;BYMONTH=3;BYDAY=-1SU
END:DAYLIGHT
BEGIN:STANDARD
TZOFFSETFROM:+0200
TZOFFSETTO:+0100
TZNAME:CET
DTSTART:19961027T030000
RRULE:FREQ=YEARLY;BYMONTH=10;BYDAY=-1SU
END:STANDARD
END:VTIMEZONE
BEGIN:VEVENT
UID:news2557@dg.philhist.unibas.ch
DTSTAMP;TZID=Europe/Zurich:20260310T145623
DTSTART;TZID=Europe/Zurich:20260421T090000
SUMMARY:Colonialism in the North Atlantic: History\, Memory\, Negotiations
DESCRIPTION:Wie selten zuvor stehen Fragen zur Identität und (politischen)
  Zugehörigkeit bzw. Unabhängigkeit von Ländern\, Regionen und indigenen
  Bevölkerungsgruppen im nordatlantischen Raum auf der globalen politische
 n Agenda. Als überregionale Kontaktzone war der Nordatlantik jedoch berei
 ts seit dem Mittelalter ein immer wieder kontestierter Raum\, der wiederho
 lt in Siedlungs- und Missionsbewegungen entdeckt\, «geclaimt» und versch
 iedenen politischen Entitäten zugeordnet wurde. Diese historischen Versch
 iebungen und wechselnden Kontaktkonstellationen zwischen Konflikt und Koop
 eration fanden und finden über die Jahrhunderte hinweg ihren Niederschlag
  in ganz unterschiedlichen Medien\, Gattungen und Kunstformen und wurden u
 nd werden im Rahmen von Nation- und Regionbuilding und (post-)kolonialen D
 ebatten aufgegriffen. \\r\\nAnmeldung unter:nordistikschweiz-dslw@unibas.
 ch [mailto:nordistikschweiz-dslw@unibas.ch]\\r\\nDas detaillierte Programm
  finden Sie auf dem Flyer.
X-ALT-DESC:<p>Wie selten zuvor stehen Fragen zur Identität und (politische
 n) Zugehörigkeit bzw. Unabhängigkeit von Ländern\, Regionen und indigen
 en Bevölkerungsgruppen im nordatlantischen Raum auf der globalen politisc
 hen Agenda. Als überregionale Kontaktzone war der Nordatlantik jedoch ber
 eits seit dem Mittelalter ein immer wieder kontestierter Raum\, der wieder
 holt in Siedlungs- und Missionsbewegungen entdeckt\, «geclaimt» und vers
 chiedenen politischen Entitäten zugeordnet wurde. Diese historischen Vers
 chiebungen und wechselnden Kontaktkonstellationen zwischen Konflikt und Ko
 operation fanden und finden über die Jahrhunderte hinweg ihren Niederschl
 ag in ganz unterschiedlichen Medien\, Gattungen und Kunstformen und wurden
  und werden im Rahmen von Nation- und Regionbuilding und (post-)kolonialen
  Debatten aufgegriffen.&nbsp\;</p>\n<p><strong>Anmeldung unter:</strong><b
 r /><a href="mailto:nordistikschweiz-dslw@unibas.ch">nordistikschweiz-dslw
 @unibas.ch</a></p>\n<p>Das detaillierte Programm finden Sie auf dem Flyer.
 </p>\n\n
DTEND;TZID=Europe/Zurich:20260422T170000
END:VEVENT
END:VCALENDAR
