BEGIN:VCALENDAR
VERSION:2.0
PRODID:-//Sabre//Sabre VObject 4.5.8//EN
CALSCALE:GREGORIAN
BEGIN:VTIMEZONE
TZID:Europe/Zurich
X-LIC-LOCATION:Europe/Zurich
TZURL:http://tzurl.org/zoneinfo/Europe/Zurich
BEGIN:DAYLIGHT
TZOFFSETFROM:+0100
TZOFFSETTO:+0200
TZNAME:CEST
DTSTART:19810329T020000
RRULE:FREQ=YEARLY;BYMONTH=3;BYDAY=-1SU
END:DAYLIGHT
BEGIN:STANDARD
TZOFFSETFROM:+0200
TZOFFSETTO:+0100
TZNAME:CET
DTSTART:19961027T030000
RRULE:FREQ=YEARLY;BYMONTH=10;BYDAY=-1SU
END:STANDARD
END:VTIMEZONE
BEGIN:VEVENT
UID:news2499@dg.philhist.unibas.ch
DTSTAMP;TZID=Europe/Zurich:20260414T114626
DTSTART;TZID=Europe/Zurich:20260423T183000
SUMMARY:VERSCHOBEN: Bubbles an der Börse. Manien und ihre Merkmale in der 
 Moderne
DESCRIPTION:Finanzkrisen treten seit dem 18. Jahrhundert regelmässig auf. 
 Sie sind meist früh zu erkennen\, folgen ähnlichen Mustern im Verlauf u
 nd sie können schwerwiegende ökonomische sowie soziale Konsequenzen fü
 r die betroffenen Gesellschaften haben. Zugleich überrascht ihr Ausbruch
  Fachwelt und Öffentlichkeit immer wieder aufs Neue\, was ihre Prognose e
 rschwert. Diese Zusammenhänge wirken auf den ersten Blick erstaunlich und
  sind erklärungsbedürftig.\\r\\nDer Vortrag widmet sich der Geschichte 
 der Spekulationsblasen und diskutiert unterschiedliche Ansätze\, um ihr A
 uftreten zu erklären.\\r\\nZur PersonLaura Rischbieter  [t3://page?uid=14
 921]ist seit August 2024 Professorin für die Geschichte des Kapitalismus
  an der Universität Basel. Sie unterrichtet und forscht zur Sozial- und W
 irtschaftsgeschichte der europäischen Neuzeit im globalen Kontext. Ihre F
 orschungsschwerpunkte liegen in der Geschichte globaler Märkte\, analysie
 ren Globalisierungsprozesse und ihre lokalen Ursprünge oder widmen sich 
 Finanzkrisen. Ein weiterer Fokus liegt in der Wissensgeschichte ökonomisc
 her Konzepte und deren Bedeutung für politische Handlungsfelder und sozi
 ale Konflikte.\\r\\nNach der Veranstaltung gibt es einen Apéro und Zeit f
 ür persönliche Begegnungen. Eine Anmeldung ist nicht erforderlich. Der 
 Eintritt ist frei. \\r\\nInteressierte sind herzlich willkommen!\\r\\nEin
 e Veranstaltung der Alumni Geschichte [t3://page?uid=279]\\r\\nKontakt: al
 umni-geschichte@unibas.ch [mailto:alumni-geschichte@unibas.ch]
X-ALT-DESC:<p>Finanzkrisen treten seit dem 18. Jahrhundert regelmässig auf
 . Sie sind meist früh zu erkennen\, folgen ähnlichen Mustern im Verlauf
  und sie können schwerwiegende ökonomische sowie soziale Konsequenzen fu
 ̈r die betroffenen Gesellschaften haben. Zugleich überrascht ihr Ausbru
 ch Fachwelt und Öffentlichkeit immer wieder aufs Neue\, was ihre Prognose
  erschwert. Diese Zusammenhänge wirken auf den ersten Blick erstaunlich u
 nd sind erklärungsbedürftig.</p>\n<p>Der Vortrag widmet sich der Geschi
 chte der Spekulationsblasen und diskutiert unterschiedliche Ansätze\, um 
 ihr Auftreten zu erklären.</p>\n<p><i>Zur Person</i><br /><a href="t3://p
 age?uid=14921">Laura Rischbieter </a>ist seit August 2024 Professorin fü
 r die Geschichte des Kapitalismus an der Universität Basel. Sie unterrich
 tet und forscht zur Sozial- und Wirtschaftsgeschichte der europäischen Ne
 uzeit im globalen Kontext. Ihre Forschungsschwerpunkte liegen in der Gesch
 ichte globaler Märkte\, analysieren Globalisierungsprozesse und ihre loka
 len Ursprünge oder widmen sich Finanzkrisen. Ein weiterer Fokus liegt in
  der Wissensgeschichte ökonomischer Konzepte und deren Bedeutung für po
 litische Handlungsfelder und soziale Konflikte.</p>\n<p>Nach der Veranstal
 tung gibt es einen Apéro und Zeit für persönliche Begegnungen. Eine An
 meldung ist nicht erforderlich. Der Eintritt ist frei.&nbsp\;</p>\n<p>Inte
 ressierte sind herzlich willkommen!</p>\n<p>Eine Veranstaltung der <a href
 ="t3://page?uid=279">Alumni Geschichte</a></p>\n<p>Kontakt: <a href="mailt
 o:alumni-geschichte@unibas.ch">alumni-geschichte@unibas.ch</a></p>
END:VEVENT
END:VCALENDAR
