BEGIN:VCALENDAR
VERSION:2.0
PRODID:-//Sabre//Sabre VObject 4.5.8//EN
CALSCALE:GREGORIAN
BEGIN:VTIMEZONE
TZID:Europe/Zurich
X-LIC-LOCATION:Europe/Zurich
TZURL:http://tzurl.org/zoneinfo/Europe/Zurich
BEGIN:DAYLIGHT
TZOFFSETFROM:+0100
TZOFFSETTO:+0200
TZNAME:CEST
DTSTART:19810329T020000
RRULE:FREQ=YEARLY;BYMONTH=3;BYDAY=-1SU
END:DAYLIGHT
BEGIN:STANDARD
TZOFFSETFROM:+0200
TZOFFSETTO:+0100
TZNAME:CET
DTSTART:19961027T030000
RRULE:FREQ=YEARLY;BYMONTH=10;BYDAY=-1SU
END:STANDARD
END:VTIMEZONE
BEGIN:VEVENT
UID:news2439@dg.philhist.unibas.ch
DTSTAMP;TZID=Europe/Zurich:20260310T144621
DTSTART;VALUE=DATE:20260310
SUMMARY:Basler GESCHICHTSTAGE 2026 "Geschichte bewegt"
DESCRIPTION:Alle Informationen zu Tickets\, Programm und Anmeldung finden S
 ie unter www.baslergeschichtstage.ch.
X-ALT-DESC:<p><i>Alle Informationen zu Tickets\, Programm und Anmeldung fin
 den Sie unter </i><a href="http://www.baslergeschichtstage.ch" title="http
 ://www.baslergeschichtstage.ch"><i><u>www.baslergeschichtstage.ch</u></i><
 /a><i>.</i></p>
DTEND;VALUE=DATE:20260321
END:VEVENT
END:VCALENDAR
